Workbook

Sheet Névsor-kódok
B1: osztályfőnök: | C1: 2021/2022 | D1: 2022/2023 | E1: 2023/2024 | F1: 2024/2025
B2: NTT | C2: 5.a | D2: 6.a | E2: 7.a | F2: 8.a
A3: 1. | B3: Balázs Bendegúz | C3: 21.1.5 | D3: 21.1.6 | E3: 21.1.7 | F3: 21.1.8
A4: 2. | B4: Balogh Erzsébet Debóra | C4: 21.2.5 | D4: 21.2.6 | E4: 21.2.7 | F4: 21.2.8
A5: 3. | B5: Balogh Mária Szabina | C5: 21.3.5 | D5: 21.3.6 | E5: 21.3.7 | F5: 21.3.8
A6: 4. | B6: Benke Gréta | C6: 21.4.5 | D6: 21.4.6 | E6: 21.4.7 | F6: 21.4.8
A7: 5. | B7: Benke Nándor | C7: 21.5.5 | D7: 21.5.6 | E7: 21.5.7 | F7: 21.5.8
A8: 6. | B8: Bodó Balázs | C8: 21.6.5 | D8: 21.6.6 | E8: 21.6.7 | F8: 21.6.8
A9: 7. | B9: Cserkúti Péter | C9: 21.7.5 | D9: 21.7.6 | E9: 21.7.7 | F9: 21.7.8
A10: 8. | B10: Csige Roland Olivér | C10: 21.8.5 | D10: 21.8.6 | E10: 21.8.7 | F10: 21.8.8
A11: 9. | B11: Debreceni Levente Attila | C11: 21.9.5 | D11: 21.9.6 | E11: 21.9.7 | F11: 21.9.8
A12: 10. | B12: Fekete Eszter | C12: 21.10.5 | D12: 21.10.6 | E12: 21.10.7 | F12: 21.10.8
A13: 11. | B13: Kiss Dorottya | C13: 21.11.5 | D13: 21.11.6 | E13: 21.11.7 | F13: 21.11.8
A14: 12. | B14: Kiss Marcell | C14: 21.12.5 | D14: 21.12.6 | E14: 21.12.7 | F14: 21.12.8
... A23: 21. | B23: Zelenka Lia Ágnes | C23: 21.21.5 | D23: 21.21.6 | E23: 21.21.7 | F23: 21.21.8

Sheet Üres, sablon
A1: Értékelőlap
A2: A tanuló neve, osztálya: | C2: =RIGHT(CELL("filenév",A5),LEN(CELL("filenév",A5))-SEARCH("]",CELL("filenév",A5))) -> Üres, sablon | F2: Kódja:
A3: Kezdés időpontja: | D3: Megjegyzés:
A4: EGÉSZ SZÁMOK | C4: Dátum:
C5: Feladatkód:
A6: sorsz. | B6: itemek | D6: szint
A7: 1. | B7: Írása, olvasása, hétköznapi értelmezése | D7: 2
A8: 2. | B8: halmazok | D8: 2
A9: 3. | B9: számegyenesen ábrázolás | D9: 3
A10: 4. | B10: sorrendbe rendezés | D10: 3
A11: 5. | B11: relációs jelek használata | D11: 4
A12: 6. | B12: Logikai mondatok | D12: 5
A13: 7. | B13: halmazok ábrázolása számegyenesen | D13: 5
A14: 8. | B14: sorozatok | D14: 4
A15: 9. | B15: abszolút éerték | D15: 2
A16: 10. | B16: ellentett | D16: 2
A17: 11. | B17: relációs jelek | D17: 3
A18: 12. | B18: adósságcédulák, pénz összevonása | D18: 2
... A35: 29. | B35: Koordináta-rendszer: jelzőszámok leolvasása | D35: 2
A36: 30.
A37: Értékelés címe: | C37: Dátum: | G37: Aláírás:
A38: Szövege:
A39: Értékelés címe: | C39: Dátum: | G39: Aláírás:
A40: Szövege:
A41: Értékelés címe: | C41: Dátum: | G41: Aláírás:
A42: Szövege:

Sheet Balázs Bendegúz
A1: ='Üres, sablon'!A1:N1 -> Értékelőlap
A2: ='Üres, sablon'!A2 -> A tanuló neve, osztálya: | C2: =RIGHT(CELL("filenév",A6),LEN(CELL("filenév",A6))-SEARCH("]",CELL("filenév",A6))) -> Balázs Bendegúz | F2: ='Üres, sablon'!F2 -> Kódja: | H2: =VLOOKUP($C$2,'Névsor-kódok'!$B$3:$F$29,2,FALSE) -> 21.1.5
A3: ='Üres, sablon'!A3 -> Kezdés időpontja: | C3: 44524 | D3: ='Üres, sablon'!D3 -> Megjegyzés:
A4: ='Üres, sablon'!A4:B5 -> EGÉSZ SZÁMOK | C4: ='Üres, sablon'!C4:D4 -> Dátum: | E4: 45256 | F4: 45261 | G4: 45277
C5: ='Üres, sablon'!C5:D5 -> Feladatkód: | E5: Mgy. 4.03. | F5: röpdolgozat | G5: F/2
A6: sorsz. | B6: ='Üres, sablon'!B6:C6 -> itemek | D6: ='Üres, sablon'!D6 -> szint
A7: 1. | B7: =IF('Üres, sablon'!B6:C7>0,'Üres, sablon'!B6:C7," ") -> Írása, olvasása, hétköznapi értelmezése | D7: =IF('Üres, sablon'!D7>0,'Üres, sablon'!D7,"") -> 2 | E7: 0
A8: 2. | B8: =IF('Üres, sablon'!B7:C8>0,'Üres, sablon'!B7:C8," ") -> halmazok | D8: =IF('Üres, sablon'!D8>0,'Üres, sablon'!D8,"") -> 2
A9: 3. | B9: =IF('Üres, sablon'!B8:C9>0,'Üres, sablon'!B8:C9," ") -> számegyenesen ábrázolás | D9: =IF('Üres, sablon'!D9>0,'Üres, sablon'!D9,"") -> 3 | E9: i
A10: 4. | B10: =IF('Üres, sablon'!B9:C10>0,'Üres, sablon'!B9:C10," ") -> sorrendbe rendezés | D10: =IF('Üres, sablon'!D10>0,'Üres, sablon'!D10,"") -> 3 | E10: 0
A11: 5. | B11: =IF('Üres, sablon'!B10:C11>0,'Üres, sablon'!B10:C11," ") -> relációs jelek használata | D11: =IF('Üres, sablon'!D11>0,'Üres, sablon'!D11,"") -> 4
A12: 6. | B12: =IF('Üres, sablon'!B11:C12>0,'Üres, sablon'!B11:C12," ") -> Logikai mondatok | D12: =IF('Üres, sablon'!D12>0,'Üres, sablon'!D12,"") -> 5
A13: 7. | B13: =IF('Üres, sablon'!B12:C13>0,'Üres, sablon'!B12:C13," ") -> halmazok ábrázolása számegyenesen | D13: =IF('Üres, sablon'!D13>0,'Üres, sablon'!D13,"") -> 5
A14: 8. | B14: =IF('Üres, sablon'!B13:C14>0,'Üres, sablon'!B13:C14," ") -> sorozatok | D14: =IF('Üres, sablon'!D14>0,'Üres, sablon'!D14,"") -> 4
A15: 9. | B15: =IF('Üres, sablon'!B14:C15>0,'Üres, sablon'!B14:C15," ") -> abszolút éerték | D15: =IF('Üres, sablon'!D15>0,'Üres, sablon'!D15,"") -> 2
A16: 10. | B16: =IF('Üres, sablon'!B15:C16>0,'Üres, sablon'!B15:C16," ") -> ellentett | D16: =IF('Üres, sablon'!D16>0,'Üres, sablon'!D16,"") -> 2 | F16: i
A17: 11. | B17: =IF('Üres, sablon'!B16:C17>0,'Üres, sablon'!B16:C17," ") -> relációs jelek | D17: =IF('Üres, sablon'!D17>0,'Üres, sablon'!D17,"") -> 3
A18: 12. | B18: =IF('Üres, sablon'!B17:C18>0,'Üres, sablon'!B17:C18," ") -> adósságcédulák, pénz összevonása | D18: =IF('Üres, sablon'!D18>0,'Üres, sablon'!D18,"") -> 2
A19: 13. | B19: =IF('Üres, sablon'!B18:C19>0,'Üres, sablon'!B18:C19," ") -> különbség leolvasása számegyenesről | D19: =IF('Üres, sablon'!D19>0,'Üres, sablon'!D19,"") -> 3
A20: 14. | B20: =IF('Üres, sablon'!B19:C20>0,'Üres, sablon'!B19:C20," ") -> különbség kiszámítása számegyenesről | D20: =IF('Üres, sablon'!D20>0,'Üres, sablon'!D20,"") -> 4
A21: 15. | B21: =IF('Üres, sablon'!B20:C21>0,'Üres, sablon'!B20:C21," ") -> zárójelek felbontása | D21: =IF('Üres, sablon'!D21>0,'Üres, sablon'!D21,"") -> 2
A22: 16. | B22: =IF('Üres, sablon'!B21:C22>0,'Üres, sablon'!B21:C22," ") -> összeadás | D22: =IF('Üres, sablon'!D22>0,'Üres, sablon'!D22,"") -> 2 | F22: i
A23: 17. | B23: =IF('Üres, sablon'!B22:C23>0,'Üres, sablon'!B22:C23," ") -> kivonás | D23: =IF('Üres, sablon'!D23>0,'Üres, sablon'!D23,"") -> 3 | F23: i
A24: 18. | B24: =IF('Üres, sablon'!B23:C24>0,'Üres, sablon'!B23:C24," ") -> összeadás nagy számokkal | D24: =IF('Üres, sablon'!D24>0,'Üres, sablon'!D24,"") -> 4
A25: 19. | B25: =IF('Üres, sablon'!B24:C25>0,'Üres, sablon'!B24:C25," ") -> kivonás nagy számokkal | D25: =IF('Üres, sablon'!D25>0,'Üres, sablon'!D25,"") -> 4
A26: 20. | B26: =IF('Üres, sablon'!B25:C26>0,'Üres, sablon'!B25:C26," ") -> csoportosítás: + - vegyesen | D26: =IF('Üres, sablon'!D26>0,'Üres, sablon'!D26,"") -> 5
A27: 21. | B27: =IF('Üres, sablon'!B26:C27>0,'Üres, sablon'!B26:C27," ") -> pótlás, nyitott mondat | D27: =IF('Üres, sablon'!D27>0,'Üres, sablon'!D27,"") -> 5
A28: 22. | B28: =IF('Üres, sablon'!B27:C28>0,'Üres, sablon'!B27:C28," ") -> összetett feladatok | D28: =IF('Üres, sablon'!D28>0,'Üres, sablon'!D28,"") -> 5 | F28: 2/3
A29: 23. | B29: =IF('Üres, sablon'!B28:C29>0,'Üres, sablon'!B28:C29," ") -> összetett feladatok bűvös négyzet | D29: =IF('Üres, sablon'!D29>0,'Üres, sablon'!D29,"") -> 5
A30: 24. | B30: =IF('Üres, sablon'!B29:C30>0,'Üres, sablon'!B29:C30," ") -> szöveges feladatok | D30: =IF('Üres, sablon'!D30>0,'Üres, sablon'!D30,"") -> 4
A31: 25. | B31: =IF('Üres, sablon'!B30:C31>0,'Üres, sablon'!B30:C31," ") -> versenyfeladat | D31: =IF('Üres, sablon'!D31>0,'Üres, sablon'!D31,"") -> 5
A32: 26. | B32: =IF('Üres, sablon'!B31:C32>0,'Üres, sablon'!B31:C32," ") -> szorzás természetes számmal | D32: =IF('Üres, sablon'!D32>0,'Üres, sablon'!D32,"") -> 2
A33: 27. | B33: =IF('Üres, sablon'!B32:C33>0,'Üres, sablon'!B32:C33," ") -> osztás természetes számmal | D33: =IF('Üres, sablon'!D33>0,'Üres, sablon'!D33,"") -> 3
A34: 28. | B34: =IF('Üres, sablon'!B33:C34>0,'Üres, sablon'!B33:C34," ") -> Koordináta-rendszer: pontok ábrázolása | D34: =IF('Üres, sablon'!D34>0,'Üres, sablon'!D34,"") -> 2
A35: 29. | B35: =IF('Üres, sablon'!B34:C35>0,'Üres, sablon'!B34:C35," ") -> Koordináta-rendszer: jelzőszámok leolvasása | D35: =IF('Üres, sablon'!D35>0,'Üres, sablon'!D35,"") -> 2
A36: 30. | B36: =IF('Üres, sablon'!B35:C36>0,'Üres, sablon'!B35:C36," ") | D36: =IF('Üres, sablon'!D36>0,'Üres, sablon'!D36,"")
A37: Értékelés címe: | C37: Dátum: | G37: Aláírás:
A38: Szövege:
A39: Értékelés címe: | C39: Dátum: | G39: Aláírás:
A40: Szövege:
A41: Értékelés címe: | C41: Dátum: | G41: Aláírás:
A42: Szövege:

Sheet Balogh Erzsébet Debóra
A1: ='Üres, sablon'!A1:N1 -> Értékelőlap
A2: ='Üres, sablon'!A2 -> A tanuló neve, osztálya: | C2: =RIGHT(CELL("filenév",A6),LEN(CELL("filenév",A6))-SEARCH("]",CELL("filenév",A6))) -> Balogh Erzsébet Debóra | F2: ='Üres, sablon'!F2 -> Kódja: | H2: =VLOOKUP($C$2,'Névsor-kódok'!$B$3:$F$29,2) -> 21.2.5
A3: ='Üres, sablon'!A3 -> Kezdés időpontja: | D3: ='Üres, sablon'!D3 -> Megjegyzés:
A4: ='Üres, sablon'!A4:B5 -> EGÉSZ SZÁMOK | C4: ='Üres, sablon'!C4:D4 -> Dátum: | E4: 45256
C5: ='Üres, sablon'!C5:D5 -> Feladatkód: | E5: Mgy. 4.03
A6: sorsz. | B6: ='Üres, sablon'!B6:C6 -> itemek | D6: ='Üres, sablon'!D6 -> szint | E6: hiányzó
A7: 1. | B7: =IF('Üres, sablon'!B6:C7>0,'Üres, sablon'!B6:C7," ") -> Írása, olvasása, hétköznapi értelmezése | D7: =IF('Üres, sablon'!D7>0,'Üres, sablon'!D7,"") -> 2
A8: 2. | B8: =IF('Üres, sablon'!B7:C8>0,'Üres, sablon'!B7:C8," ") -> halmazok | D8: =IF('Üres, sablon'!D8>0,'Üres, sablon'!D8,"") -> 2
A9: 3. | B9: =IF('Üres, sablon'!B8:C9>0,'Üres, sablon'!B8:C9," ") -> számegyenesen ábrázolás | D9: =IF('Üres, sablon'!D9>0,'Üres, sablon'!D9,"") -> 3
A10: 4. | B10: =IF('Üres, sablon'!B9:C10>0,'Üres, sablon'!B9:C10," ") -> sorrendbe rendezés | D10: =IF('Üres, sablon'!D10>0,'Üres, sablon'!D10,"") -> 3
A11: 5. | B11: =IF('Üres, sablon'!B10:C11>0,'Üres, sablon'!B10:C11," ") -> relációs jelek használata | D11: =IF('Üres, sablon'!D11>0,'Üres, sablon'!D11,"") -> 4
A12: 6. | B12: =IF('Üres, sablon'!B11:C12>0,'Üres, sablon'!B11:C12," ") -> Logikai mondatok | D12: =IF('Üres, sablon'!D12>0,'Üres, sablon'!D12,"") -> 5
A13: 7. | B13: =IF('Üres, sablon'!B12:C13>0,'Üres, sablon'!B12:C13," ") -> halmazok ábrázolása számegyenesen | D13: =IF('Üres, sablon'!D13>0,'Üres, sablon'!D13,"") -> 5
A14: 8. | B14: =IF('Üres, sablon'!B13:C14>0,'Üres, sablon'!B13:C14," ") -> sorozatok | D14: =IF('Üres, sablon'!D14>0,'Üres, sablon'!D14,"") -> 4
A15: 9. | B15: =IF('Üres, sablon'!B14:C15>0,'Üres, sablon'!B14:C15," ") -> abszolút éerték | D15: =IF('Üres, sablon'!D15>0,'Üres, sablon'!D15,"") -> 2
A16: 10. | B16: =IF('Üres, sablon'!B15:C16>0,'Üres, sablon'!B15:C16," ") -> ellentett | D16: =IF('Üres, sablon'!D16>0,'Üres, sablon'!D16,"") -> 2
A17: 11. | B17: =IF('Üres, sablon'!B16:C17>0,'Üres, sablon'!B16:C17," ") -> relációs jelek | D17: =IF('Üres, sablon'!D17>0,'Üres, sablon'!D17,"") -> 3
A18: 12. | B18: =IF('Üres, sablon'!B17:C18>0,'Üres, sablon'!B17:C18," ") -> adósságcédulák, pénz összevonása | D18: =IF('Üres, sablon'!D18>0,'Üres, sablon'!D18,"") -> 2
... A36: 30. | B36: =IF('Üres, sablon'!B35:C36>0,'Üres, sablon'!B35:C36," ") | D36: =IF('Üres, sablon'!D36>0,'Üres, sablon'!D36,"")
A37: Értékelés címe: | C37: Dátum: | G37: Aláírás:
A38: Szövege:
A39: Értékelés címe: | C39: Dátum: | G39: Aláírás:
A40: Szövege:
A41: Értékelés címe: | C41: Dátum: | G41: Aláírás:
A42: Szövege:

Sheet Balogh Mária Szabina
A1: ='Üres, sablon'!A1:N1 -> Értékelőlap
A2: ='Üres, sablon'!A2 -> A tanuló neve, osztálya: | C2: =RIGHT(CELL("filenév",A6),LEN(CELL("filenév",A6))-SEARCH("]",CELL("filenév",A6))) -> Balogh Mária Szabina | F2: ='Üres, sablon'!F2 -> Kódja: | H2: =VLOOKUP($C$2,'Névsor-kódok'!$B$3:$F$29,2, FALSE) -> 21.3.5
A3: ='Üres, sablon'!A3 -> Kezdés időpontja: | D3: ='Üres, sablon'!D3 -> Megjegyzés:
A4: ='Üres, sablon'!A4:B5 -> EGÉSZ SZÁMOK | C4: ='Üres, sablon'!C4:D4 -> Dátum:
C5: ='Üres, sablon'!C5:D5 -> Feladatkód:
A6: sorsz. | B6: ='Üres, sablon'!B6:C6 -> itemek | D6: ='Üres, sablon'!D6 -> szint
A7: 1. | B7: =IF('Üres, sablon'!B6:C7>0,'Üres, sablon'!B6:C7," ") -> Írása, olvasása, hétköznapi értelmezése | D7: =IF('Üres, sablon'!D7>0,'Üres, sablon'!D7,"") -> 2
A8: 2. | B8: =IF('Üres, sablon'!B7:C8>0,'Üres, sablon'!B7:C8," ") -> halmazok | D8: =IF('Üres, sablon'!D8>0,'Üres, sablon'!D8,"") -> 2
A9: 3. | B9: =IF('Üres, sablon'!B8:C9>0,'Üres, sablon'!B8:C9," ") -> számegyenesen ábrázolás | D9: =IF('Üres, sablon'!D9>0,'Üres, sablon'!D9,"") -> 3
A10: 4. | B10: =IF('Üres, sablon'!B9:C10>0,'Üres, sablon'!B9:C10," ") -> sorrendbe rendezés | D10: =IF('Üres, sablon'!D10>0,'Üres, sablon'!D10,"") -> 3
A11: 5. | B11: =IF('Üres, sablon'!B10:C11>0,'Üres, sablon'!B10:C11," ") -> relációs jelek használata | D11: =IF('Üres, sablon'!D11>0,'Üres, sablon'!D11,"") -> 4
A12: 6. | B12: =IF('Üres, sablon'!B11:C12>0,'Üres, sablon'!B11:C12," ") -> Logikai mondatok | D12: =IF('Üres, sablon'!D12>0,'Üres, sablon'!D12,"") -> 5
A13: 7. | B13: =IF('Üres, sablon'!B12:C13>0,'Üres, sablon'!B12:C13," ") -> halmazok ábrázolása számegyenesen | D13: =IF('Üres, sablon'!D13>0,'Üres, sablon'!D13,"") -> 5
A14: 8. | B14: =IF('Üres, sablon'!B13:C14>0,'Üres, sablon'!B13:C14," ") -> sorozatok | D14: =IF('Üres, sablon'!D14>0,'Üres, sablon'!D14,"") -> 4
A15: 9. | B15: =IF('Üres, sablon'!B14:C15>0,'Üres, sablon'!B14:C15," ") -> abszolút éerték | D15: =IF('Üres, sablon'!D15>0,'Üres, sablon'!D15,"") -> 2
A16: 10. | B16: =IF('Üres, sablon'!B15:C16>0,'Üres, sablon'!B15:C16," ") -> ellentett | D16: =IF('Üres, sablon'!D16>0,'Üres, sablon'!D16,"") -> 2
A17: 11. | B17: =IF('Üres, sablon'!B16:C17>0,'Üres, sablon'!B16:C17," ") -> relációs jelek | D17: =IF('Üres, sablon'!D17>0,'Üres, sablon'!D17,"") -> 3
A18: 12. | B18: =IF('Üres, sablon'!B17:C18>0,'Üres, sablon'!B17:C18," ") -> adósságcédulák, pénz összevonása | D18: =IF('Üres, sablon'!D18>0,'Üres, sablon'!D18,"") -> 2
... A36: 30. | B36: =IF('Üres, sablon'!B35:C36>0,'Üres, sablon'!B35:C36," ") | D36: =IF('Üres, sablon'!D36>0,'Üres, sablon'!D36,"")
A37: Értékelés címe: | C37: Dátum: | G37: Aláírás:
A38: Szövege:
A39: Értékelés címe: | C39: Dátum: | G39: Aláírás:
A40: Szövege:
A41: Értékelés címe: | C41: Dátum: | G41: Aláírás:
A42: Szövege:

Sheet Benke Gréta
A1: ='Üres, sablon'!A1:N1 -> Értékelőlap
A2: ='Üres, sablon'!A2 -> A tanuló neve, osztálya: | C2: =RIGHT(CELL("filenév",A6),LEN(CELL("filenév",A6))-SEARCH("]",CELL("filenév",A6))) -> Benke Gréta | F2: ='Üres, sablon'!F2 -> Kódja: | H2: =VLOOKUP($C$2,'Névsor-kódok'!$B$3:$F$29,2, FALSE) -> 21.4.5
A3: ='Üres, sablon'!A3 -> Kezdés időpontja: | D3: ='Üres, sablon'!D3 -> Megjegyzés:
A4: ='Üres, sablon'!A4:B5 -> EGÉSZ SZÁMOK | C4: ='Üres, sablon'!C4:D4 -> Dátum:
C5: ='Üres, sablon'!C5:D5 -> Feladatkód:
A6: sorsz. | B6: ='Üres, sablon'!B6:C6 -> itemek | D6: ='Üres, sablon'!D6 -> szint
A7: 1. | B7: =IF('Üres, sablon'!B6:C7>0,'Üres, sablon'!B6:C7," ") -> Írása, olvasása, hétköznapi értelmezése | D7: =IF('Üres, sablon'!D7>0,'Üres, sablon'!D7,"") -> 2
A8: 2. | B8: =IF('Üres, sablon'!B7:C8>0,'Üres, sablon'!B7:C8," ") -> halmazok | D8: =IF('Üres, sablon'!D8>0,'Üres, sablon'!D8,"") -> 2
A9: 3. | B9: =IF('Üres, sablon'!B8:C9>0,'Üres, sablon'!B8:C9," ") -> számegyenesen ábrázolás | D9: =IF('Üres, sablon'!D9>0,'Üres, sablon'!D9,"") -> 3
A10: 4. | B10: =IF('Üres, sablon'!B9:C10>0,'Üres, sablon'!B9:C10," ") -> sorrendbe rendezés | D10: =IF('Üres, sablon'!D10>0,'Üres, sablon'!D10,"") -> 3
A11: 5. | B11: =IF('Üres, sablon'!B10:C11>0,'Üres, sablon'!B10:C11," ") -> relációs jelek használata | D11: =IF('Üres, sablon'!D11>0,'Üres, sablon'!D11,"") -> 4
A12: 6. | B12: =IF('Üres, sablon'!B11:C12>0,'Üres, sablon'!B11:C12," ") -> Logikai mondatok | D12: =IF('Üres, sablon'!D12>0,'Üres, sablon'!D12,"") -> 5
A13: 7. | B13: =IF('Üres, sablon'!B12:C13>0,'Üres, sablon'!B12:C13," ") -> halmazok ábrázolása számegyenesen | D13: =IF('Üres, sablon'!D13>0,'Üres, sablon'!D13,"") -> 5
A14: 8. | B14: =IF('Üres, sablon'!B13:C14>0,'Üres, sablon'!B13:C14," ") -> sorozatok | D14: =IF('Üres, sablon'!D14>0,'Üres, sablon'!D14,"") -> 4
A15: 9. | B15: =IF('Üres, sablon'!B14:C15>0,'Üres, sablon'!B14:C15," ") -> abszolút éerték | D15: =IF('Üres, sablon'!D15>0,'Üres, sablon'!D15,"") -> 2
A16: 10. | B16: =IF('Üres, sablon'!B15:C16>0,'Üres, sablon'!B15:C16," ") -> ellentett | D16: =IF('Üres, sablon'!D16>0,'Üres, sablon'!D16,"") -> 2
A17: 11. | B17: =IF('Üres, sablon'!B16:C17>0,'Üres, sablon'!B16:C17," ") -> relációs jelek | D17: =IF('Üres, sablon'!D17>0,'Üres, sablon'!D17,"") -> 3
A18: 12. | B18: =IF('Üres, sablon'!B17:C18>0,'Üres, sablon'!B17:C18," ") -> adósságcédulák, pénz összevonása | D18: =IF('Üres, sablon'!D18>0,'Üres, sablon'!D18,"") -> 2
... A36: 30. | B36: =IF('Üres, sablon'!B35:C36>0,'Üres, sablon'!B35:C36," ") | D36: =IF('Üres, sablon'!D36>0,'Üres, sablon'!D36,"")
A37: Értékelés címe: | C37: Dátum: | G37: Aláírás:
A38: Szövege:
A39: Értékelés címe: | C39: Dátum: | G39: Aláírás:
A40: Szövege:
A41: Értékelés címe: | C41: Dátum: | G41: Aláírás:
A42: Szövege:

Sheet Benke Nándor
A1: ='Üres, sablon'!A1:N1 -> Értékelőlap
A2: ='Üres, sablon'!A2 -> A tanuló neve, osztálya: | C2: =RIGHT(CELL("filenév",A6),LEN(CELL("filenév",A6))-SEARCH("]",CELL("filenév",A6))) -> Benke Nándor | F2: ='Üres, sablon'!F2 -> Kódja: | H2: =VLOOKUP($C$2,'Névsor-kódok'!$B$3:$F$29,2, FALSE) -> 21.5.5
A3: ='Üres, sablon'!A3 -> Kezdés időpontja: | D3: ='Üres, sablon'!D3 -> Megjegyzés:
A4: ='Üres, sablon'!A4:B5 -> EGÉSZ SZÁMOK | C4: ='Üres, sablon'!C4:D4 -> Dátum:
C5: ='Üres, sablon'!C5:D5 -> Feladatkód:
A6: sorsz. | B6: ='Üres, sablon'!B6:C6 -> itemek | D6: ='Üres, sablon'!D6 -> szint
A7: 1. | B7: =IF('Üres, sablon'!B6:C7>0,'Üres, sablon'!B6:C7," ") -> Írása, olvasása, hétköznapi értelmezése | D7: =IF('Üres, sablon'!D7>0,'Üres, sablon'!D7,"") -> 2
A8: 2. | B8: =IF('Üres, sablon'!B7:C8>0,'Üres, sablon'!B7:C8," ") -> halmazok | D8: =IF('Üres, sablon'!D8>0,'Üres, sablon'!D8,"") -> 2
A9: 3. | B9: =IF('Üres, sablon'!B8:C9>0,'Üres, sablon'!B8:C9," ") -> számegyenesen ábrázolás | D9: =IF('Üres, sablon'!D9>0,'Üres, sablon'!D9,"") -> 3
A10: 4. | B10: =IF('Üres, sablon'!B9:C10>0,'Üres, sablon'!B9:C10," ") -> sorrendbe rendezés | D10: =IF('Üres, sablon'!D10>0,'Üres, sablon'!D10,"") -> 3
A11: 5. | B11: =IF('Üres, sablon'!B10:C11>0,'Üres, sablon'!B10:C11," ") -> relációs jelek használata | D11: =IF('Üres, sablon'!D11>0,'Üres, sablon'!D11,"") -> 4
A12: 6. | B12: =IF('Üres, sablon'!B11:C12>0,'Üres, sablon'!B11:C12," ") -> Logikai mondatok | D12: =IF('Üres, sablon'!D12>0,'Üres, sablon'!D12,"") -> 5
A13: 7. | B13: =IF('Üres, sablon'!B12:C13>0,'Üres, sablon'!B12:C13," ") -> halmazok ábrázolása számegyenesen | D13: =IF('Üres, sablon'!D13>0,'Üres, sablon'!D13,"") -> 5
A14: 8. | B14: =IF('Üres, sablon'!B13:C14>0,'Üres, sablon'!B13:C14," ") -> sorozatok | D14: =IF('Üres, sablon'!D14>0,'Üres, sablon'!D14,"") -> 4
A15: 9. | B15: =IF('Üres, sablon'!B14:C15>0,'Üres, sablon'!B14:C15," ") -> abszolút éerték | D15: =IF('Üres, sablon'!D15>0,'Üres, sablon'!D15,"") -> 2
A16: 10. | B16: =IF('Üres, sablon'!B15:C16>0,'Üres, sablon'!B15:C16," ") -> ellentett | D16: =IF('Üres, sablon'!D16>0,'Üres, sablon'!D16,"") -> 2
A17: 11. | B17: =IF('Üres, sablon'!B16:C17>0,'Üres, sablon'!B16:C17," ") -> relációs jelek | D17: =IF('Üres, sablon'!D17>0,'Üres, sablon'!D17,"") -> 3
A18: 12. | B18: =IF('Üres, sablon'!B17:C18>0,'Üres, sablon'!B17:C18," ") -> adósságcédulák, pénz összevonása | D18: =IF('Üres, sablon'!D18>0,'Üres, sablon'!D18,"") -> 2
... A36: 30. | B36: =IF('Üres, sablon'!B35:C36>0,'Üres, sablon'!B35:C36," ") | D36: =IF('Üres, sablon'!D36>0,'Üres, sablon'!D36,"")
A37: Értékelés címe: | C37: Dátum: | G37: Aláírás:
A38: Szövege:
A39: Értékelés címe: | C39: Dátum: | G39: Aláírás:
A40: Szövege:
A41: Értékelés címe: | C41: Dátum: | G41: Aláírás:
A42: Szövege:

Sheet Csige Roland Olivér
A1: ='Üres, sablon'!A1:N1 -> Értékelőlap
A2: ='Üres, sablon'!A2 -> A tanuló neve, osztálya: | C2: =RIGHT(CELL("filenév",A6),LEN(CELL("filenév",A6))-SEARCH("]",CELL("filenév",A6))) -> Csige Roland Olivér | F2: ='Üres, sablon'!F2 -> Kódja: | H2: =VLOOKUP($C$2,'Névsor-kódok'!$B$3:$F$29,2, FALSE) -> 21.8.5
A3: ='Üres, sablon'!A3 -> Kezdés időpontja: | D3: ='Üres, sablon'!D3 -> Megjegyzés:
A4: ='Üres, sablon'!A4:B5 -> EGÉSZ SZÁMOK | C4: ='Üres, sablon'!C4:D4 -> Dátum:
C5: ='Üres, sablon'!C5:D5 -> Feladatkód:
A6: sorsz. | B6: ='Üres, sablon'!B6:C6 -> itemek | D6: ='Üres, sablon'!D6 -> szint
A7: 1. | B7: =IF('Üres, sablon'!B6:C7>0,'Üres, sablon'!B6:C7," ") -> Írása, olvasása, hétköznapi értelmezése | D7: =IF('Üres, sablon'!D7>0,'Üres, sablon'!D7,"") -> 2
A8: 2. | B8: =IF('Üres, sablon'!B7:C8>0,'Üres, sablon'!B7:C8," ") -> halmazok | D8: =IF('Üres, sablon'!D8>0,'Üres, sablon'!D8,"") -> 2
A9: 3. | B9: =IF('Üres, sablon'!B8:C9>0,'Üres, sablon'!B8:C9," ") -> számegyenesen ábrázolás | D9: =IF('Üres, sablon'!D9>0,'Üres, sablon'!D9,"") -> 3
A10: 4. | B10: =IF('Üres, sablon'!B9:C10>0,'Üres, sablon'!B9:C10," ") -> sorrendbe rendezés | D10: =IF('Üres, sablon'!D10>0,'Üres, sablon'!D10,"") -> 3
A11: 5. | B11: =IF('Üres, sablon'!B10:C11>0,'Üres, sablon'!B10:C11," ") -> relációs jelek használata | D11: =IF('Üres, sablon'!D11>0,'Üres, sablon'!D11,"") -> 4
A12: 6. | B12: =IF('Üres, sablon'!B11:C12>0,'Üres, sablon'!B11:C12," ") -> Logikai mondatok | D12: =IF('Üres, sablon'!D12>0,'Üres, sablon'!D12,"") -> 5
A13: 7. | B13: =IF('Üres, sablon'!B12:C13>0,'Üres, sablon'!B12:C13," ") -> halmazok ábrázolása számegyenesen | D13: =IF('Üres, sablon'!D13>0,'Üres, sablon'!D13,"") -> 5
A14: 8. | B14: =IF('Üres, sablon'!B13:C14>0,'Üres, sablon'!B13:C14," ") -> sorozatok | D14: =IF('Üres, sablon'!D14>0,'Üres, sablon'!D14,"") -> 4
A15: 9. | B15: =IF('Üres, sablon'!B14:C15>0,'Üres, sablon'!B14:C15," ") -> abszolút éerték | D15: =IF('Üres, sablon'!D15>0,'Üres, sablon'!D15,"") -> 2
A16: 10. | B16: =IF('Üres, sablon'!B15:C16>0,'Üres, sablon'!B15:C16," ") -> ellentett | D16: =IF('Üres, sablon'!D16>0,'Üres, sablon'!D16,"") -> 2
A17: 11. | B17: =IF('Üres, sablon'!B16:C17>0,'Üres, sablon'!B16:C17," ") -> relációs jelek | D17: =IF('Üres, sablon'!D17>0,'Üres, sablon'!D17,"") -> 3
A18: 12. | B18: =IF('Üres, sablon'!B17:C18>0,'Üres, sablon'!B17:C18," ") -> adósságcédulák, pénz összevonása | D18: =IF('Üres, sablon'!D18>0,'Üres, sablon'!D18,"") -> 2
... A36: 30. | B36: =IF('Üres, sablon'!B35:C36>0,'Üres, sablon'!B35:C36," ") | D36: =IF('Üres, sablon'!D36>0,'Üres, sablon'!D36,"")
A37: Értékelés címe: | C37: Dátum: | G37: Aláírás:
A38: Szövege:
A39: Értékelés címe: | C39: Dátum: | G39: Aláírás:
A40: Szövege:
A41: Értékelés címe: | C41: Dátum: | G41: Aláírás:
A42: Szövege:

Sheet Debreceni Levente Attila
A1: ='Üres, sablon'!A1:N1 -> Értékelőlap
A2: ='Üres, sablon'!A2 -> A tanuló neve, osztálya: | C2: =RIGHT(CELL("filenév",A6),LEN(CELL("filenév",A6))-SEARCH("]",CELL("filenév",A6))) -> Debreceni Levente Attila | F2: ='Üres, sablon'!F2 -> Kódja: | H2: =VLOOKUP($C$2,'Névsor-kódok'!$B$3:$F$29,2, FALSE) -> 21.9.5
A3: ='Üres, sablon'!A3 -> Kezdés időpontja: | D3: ='Üres, sablon'!D3 -> Megjegyzés:
A4: ='Üres, sablon'!A4:B5 -> EGÉSZ SZÁMOK | C4: ='Üres, sablon'!C4:D4 -> Dátum:
C5: ='Üres, sablon'!C5:D5 -> Feladatkód:
A6: sorsz. | B6: ='Üres, sablon'!B6:C6 -> itemek | D6: ='Üres, sablon'!D6 -> szint
A7: 1. | B7: =IF('Üres, sablon'!B6:C7>0,'Üres, sablon'!B6:C7," ") -> Írása, olvasása, hétköznapi értelmezése | D7: =IF('Üres, sablon'!D7>0,'Üres, sablon'!D7,"") -> 2
A8: 2. | B8: =IF('Üres, sablon'!B7:C8>0,'Üres, sablon'!B7:C8," ") -> halmazok | D8: =IF('Üres, sablon'!D8>0,'Üres, sablon'!D8,"") -> 2
A9: 3. | B9: =IF('Üres, sablon'!B8:C9>0,'Üres, sablon'!B8:C9," ") -> számegyenesen ábrázolás | D9: =IF('Üres, sablon'!D9>0,'Üres, sablon'!D9,"") -> 3
A10: 4. | B10: =IF('Üres, sablon'!B9:C10>0,'Üres, sablon'!B9:C10," ") -> sorrendbe rendezés | D10: =IF('Üres, sablon'!D10>0,'Üres, sablon'!D10,"") -> 3
A11: 5. | B11: =IF('Üres, sablon'!B10:C11>0,'Üres, sablon'!B10:C11," ") -> relációs jelek használata | D11: =IF('Üres, sablon'!D11>0,'Üres, sablon'!D11,"") -> 4
A12: 6. | B12: =IF('Üres, sablon'!B11:C12>0,'Üres, sablon'!B11:C12," ") -> Logikai mondatok | D12: =IF('Üres, sablon'!D12>0,'Üres, sablon'!D12,"") -> 5
A13: 7. | B13: =IF('Üres, sablon'!B12:C13>0,'Üres, sablon'!B12:C13," ") -> halmazok ábrázolása számegyenesen | D13: =IF('Üres, sablon'!D13>0,'Üres, sablon'!D13,"") -> 5
A14: 8. | B14: =IF('Üres, sablon'!B13:C14>0,'Üres, sablon'!B13:C14," ") -> sorozatok | D14: =IF('Üres, sablon'!D14>0,'Üres, sablon'!D14,"") -> 4
A15: 9. | B15: =IF('Üres, sablon'!B14:C15>0,'Üres, sablon'!B14:C15," ") -> abszolút éerték | D15: =IF('Üres, sablon'!D15>0,'Üres, sablon'!D15,"") -> 2
A16: 10. | B16: =IF('Üres, sablon'!B15:C16>0,'Üres, sablon'!B15:C16," ") -> ellentett | D16: =IF('Üres, sablon'!D16>0,'Üres, sablon'!D16,"") -> 2
A17: 11. | B17: =IF('Üres, sablon'!B16:C17>0,'Üres, sablon'!B16:C17," ") -> relációs jelek | D17: =IF('Üres, sablon'!D17>0,'Üres, sablon'!D17,"") -> 3
A18: 12. | B18: =IF('Üres, sablon'!B17:C18>0,'Üres, sablon'!B17:C18," ") -> adósságcédulák, pénz összevonása | D18: =IF('Üres, sablon'!D18>0,'Üres, sablon'!D18,"") -> 2
... A36: 30. | B36: =IF('Üres, sablon'!B35:C36>0,'Üres, sablon'!B35:C36," ") | D36: =IF('Üres, sablon'!D36>0,'Üres, sablon'!D36,"")
A37: Értékelés címe: | C37: Dátum: | G37: Aláírás:
A38: Szövege:
A39: Értékelés címe: | C39: Dátum: | G39: Aláírás:
A40: Szövege:
A41: Értékelés címe: | C41: Dátum: | G41: Aláírás:
A42: Szövege:

Sheet Fekete Eszter
A1: ='Üres, sablon'!A1:N1 -> Értékelőlap
A2: ='Üres, sablon'!A2 -> A tanuló neve, osztálya: | C2: =RIGHT(CELL("filenév",A6),LEN(CELL("filenév",A6))-SEARCH("]",CELL("filenév",A6))) -> Fekete Eszter | F2: ='Üres, sablon'!F2 -> Kódja: | H2: =VLOOKUP($C$2,'Névsor-kódok'!$B$3:$F$29,2, FALSE) -> 21.10.5
A3: ='Üres, sablon'!A3 -> Kezdés időpontja: | D3: ='Üres, sablon'!D3 -> Megjegyzés:
A4: ='Üres, sablon'!A4:B5 -> EGÉSZ SZÁMOK | C4: ='Üres, sablon'!C4:D4 -> Dátum:
C5: ='Üres, sablon'!C5:D5 -> Feladatkód:
A6: sorsz. | B6: ='Üres, sablon'!B6:C6 -> itemek | D6: ='Üres, sablon'!D6 -> szint
A7: 1. | B7: =IF('Üres, sablon'!B6:C7>0,'Üres, sablon'!B6:C7," ") -> Írása, olvasása, hétköznapi értelmezése | D7: =IF('Üres, sablon'!D7>0,'Üres, sablon'!D7,"") -> 2
A8: 2. | B8: =IF('Üres, sablon'!B7:C8>0,'Üres, sablon'!B7:C8," ") -> halmazok | D8: =IF('Üres, sablon'!D8>0,'Üres, sablon'!D8,"") -> 2
A9: 3. | B9: =IF('Üres, sablon'!B8:C9>0,'Üres, sablon'!B8:C9," ") -> számegyenesen ábrázolás | D9: =IF('Üres, sablon'!D9>0,'Üres, sablon'!D9,"") -> 3
A10: 4. | B10: =IF('Üres, sablon'!B9:C10>0,'Üres, sablon'!B9:C10," ") -> sorrendbe rendezés | D10: =IF('Üres, sablon'!D10>0,'Üres, sablon'!D10,"") -> 3
A11: 5. | B11: =IF('Üres, sablon'!B10:C11>0,'Üres, sablon'!B10:C11," ") -> relációs jelek használata | D11: =IF('Üres, sablon'!D11>0,'Üres, sablon'!D11,"") -> 4
A12: 6. | B12: =IF('Üres, sablon'!B11:C12>0,'Üres, sablon'!B11:C12," ") -> Logikai mondatok | D12: =IF('Üres, sablon'!D12>0,'Üres, sablon'!D12,"") -> 5
A13: 7. | B13: =IF('Üres, sablon'!B12:C13>0,'Üres, sablon'!B12:C13," ") -> halmazok ábrázolása számegyenesen | D13: =IF('Üres, sablon'!D13>0,'Üres, sablon'!D13,"") -> 5
A14: 8. | B14: =IF('Üres, sablon'!B13:C14>0,'Üres, sablon'!B13:C14," ") -> sorozatok | D14: =IF('Üres, sablon'!D14>0,'Üres, sablon'!D14,"") -> 4
A15: 9. | B15: =IF('Üres, sablon'!B14:C15>0,'Üres, sablon'!B14:C15," ") -> abszolút éerték | D15: =IF('Üres, sablon'!D15>0,'Üres, sablon'!D15,"") -> 2
A16: 10. | B16: =IF('Üres, sablon'!B15:C16>0,'Üres, sablon'!B15:C16," ") -> ellentett | D16: =IF('Üres, sablon'!D16>0,'Üres, sablon'!D16,"") -> 2
A17: 11. | B17: =IF('Üres, sablon'!B16:C17>0,'Üres, sablon'!B16:C17," ") -> relációs jelek | D17: =IF('Üres, sablon'!D17>0,'Üres, sablon'!D17,"") -> 3
A18: 12. | B18: =IF('Üres, sablon'!B17:C18>0,'Üres, sablon'!B17:C18," ") -> adósságcédulák, pénz összevonása | D18: =IF('Üres, sablon'!D18>0,'Üres, sablon'!D18,"") -> 2
... A36: 30. | B36: =IF('Üres, sablon'!B35:C36>0,'Üres, sablon'!B35:C36," ") | D36: =IF('Üres, sablon'!D36>0,'Üres, sablon'!D36,"")
A37: Értékelés címe: | C37: Dátum: | G37: Aláírás:
A38: Szövege:
A39: Értékelés címe: | C39: Dátum: | G39: Aláírás:
A40: Szövege:
A41: Értékelés címe: | C41: Dátum: | G41: Aláírás:
A42: Szövege:

Sheet Kiss Dorottya
A1: ='Üres, sablon'!A1:N1 -> Értékelőlap
A2: ='Üres, sablon'!A2 -> A tanuló neve, osztálya: | C2: =RIGHT(CELL("filenév",A6),LEN(CELL("filenév",A6))-SEARCH("]",CELL("filenév",A6))) -> Kiss Dorottya | F2: ='Üres, sablon'!F2 -> Kódja: | H2: =VLOOKUP($C$2,'Névsor-kódok'!$B$3:$F$29,2, FALSE) -> 21.11.5
A3: ='Üres, sablon'!A3 -> Kezdés időpontja: | D3: ='Üres, sablon'!D3 -> Megjegyzés:
A4: ='Üres, sablon'!A4:B5 -> EGÉSZ SZÁMOK | C4: ='Üres, sablon'!C4:D4 -> Dátum:
C5: ='Üres, sablon'!C5:D5 -> Feladatkód:
A6: sorsz. | B6: ='Üres, sablon'!B6:C6 -> itemek | D6: ='Üres, sablon'!D6 -> szint
A7: 1. | B7: =IF('Üres, sablon'!B6:C7>0,'Üres, sablon'!B6:C7," ") -> Írása, olvasása, hétköznapi értelmezése | D7: =IF('Üres, sablon'!D7>0,'Üres, sablon'!D7,"") -> 2
A8: 2. | B8: =IF('Üres, sablon'!B7:C8>0,'Üres, sablon'!B7:C8," ") -> halmazok | D8: =IF('Üres, sablon'!D8>0,'Üres, sablon'!D8,"") -> 2
A9: 3. | B9: =IF('Üres, sablon'!B8:C9>0,'Üres, sablon'!B8:C9," ") -> számegyenesen ábrázolás | D9: =IF('Üres, sablon'!D9>0,'Üres, sablon'!D9,"") -> 3
A10: 4. | B10: =IF('Üres, sablon'!B9:C10>0,'Üres, sablon'!B9:C10," ") -> sorrendbe rendezés | D10: =IF('Üres, sablon'!D10>0,'Üres, sablon'!D10,"") -> 3
A11: 5. | B11: =IF('Üres, sablon'!B10:C11>0,'Üres, sablon'!B10:C11," ") -> relációs jelek használata | D11: =IF('Üres, sablon'!D11>0,'Üres, sablon'!D11,"") -> 4
A12: 6. | B12: =IF('Üres, sablon'!B11:C12>0,'Üres, sablon'!B11:C12," ") -> Logikai mondatok | D12: =IF('Üres, sablon'!D12>0,'Üres, sablon'!D12,"") -> 5
A13: 7. | B13: =IF('Üres, sablon'!B12:C13>0,'Üres, sablon'!B12:C13," ") -> halmazok ábrázolása számegyenesen | D13: =IF('Üres, sablon'!D13>0,'Üres, sablon'!D13,"") -> 5
A14: 8. | B14: =IF('Üres, sablon'!B13:C14>0,'Üres, sablon'!B13:C14," ") -> sorozatok | D14: =IF('Üres, sablon'!D14>0,'Üres, sablon'!D14,"") -> 4
A15: 9. | B15: =IF('Üres, sablon'!B14:C15>0,'Üres, sablon'!B14:C15," ") -> abszolút éerték | D15: =IF('Üres, sablon'!D15>0,'Üres, sablon'!D15,"") -> 2
A16: 10. | B16: =IF('Üres, sablon'!B15:C16>0,'Üres, sablon'!B15:C16," ") -> ellentett | D16: =IF('Üres, sablon'!D16>0,'Üres, sablon'!D16,"") -> 2
A17: 11. | B17: =IF('Üres, sablon'!B16:C17>0,'Üres, sablon'!B16:C17," ") -> relációs jelek | D17: =IF('Üres, sablon'!D17>0,'Üres, sablon'!D17,"") -> 3
A18: 12. | B18: =IF('Üres, sablon'!B17:C18>0,'Üres, sablon'!B17:C18," ") -> adósságcédulák, pénz összevonása | D18: =IF('Üres, sablon'!D18>0,'Üres, sablon'!D18,"") -> 2
... A36: 30. | B36: =IF('Üres, sablon'!B35:C36>0,'Üres, sablon'!B35:C36," ") | D36: =IF('Üres, sablon'!D36>0,'Üres, sablon'!D36,"")
A37: Értékelés címe: | C37: Dátum: | G37: Aláírás:
A38: Szövege:
A39: Értékelés címe: | C39: Dátum: | G39: Aláírás:
A40: Szövege:
A41: Értékelés címe: | C41: Dátum: | G41: Aláírás:
A42: Szövege:

Sheet Kiss Marcell
A1: ='Üres, sablon'!A1:N1 -> Értékelőlap
A2: ='Üres, sablon'!A2 -> A tanuló neve, osztálya: | C2: =RIGHT(CELL("filenév",A6),LEN(CELL("filenév",A6))-SEARCH("]",CELL("filenév",A6))) -> Kiss Marcell | F2: ='Üres, sablon'!F2 -> Kódja: | H2: =VLOOKUP($C$2,'Névsor-kódok'!$B$3:$F$29,2, FALSE) -> 21.12.5
A3: ='Üres, sablon'!A3 -> Kezdés időpontja: | D3: ='Üres, sablon'!D3 -> Megjegyzés:
A4: ='Üres, sablon'!A4:B5 -> EGÉSZ SZÁMOK | C4: ='Üres, sablon'!C4:D4 -> Dátum:
C5: ='Üres, sablon'!C5:D5 -> Feladatkód:
A6: sorsz. | B6: ='Üres, sablon'!B6:C6 -> itemek | D6: ='Üres, sablon'!D6 -> szint
A7: 1. | B7: =IF('Üres, sablon'!B6:C7>0,'Üres, sablon'!B6:C7," ") -> Írása, olvasása, hétköznapi értelmezése | D7: =IF('Üres, sablon'!D7>0,'Üres, sablon'!D7,"") -> 2
A8: 2. | B8: =IF('Üres, sablon'!B7:C8>0,'Üres, sablon'!B7:C8," ") -> halmazok | D8: =IF('Üres, sablon'!D8>0,'Üres, sablon'!D8,"") -> 2
A9: 3. | B9: =IF('Üres, sablon'!B8:C9>0,'Üres, sablon'!B8:C9," ") -> számegyenesen ábrázolás | D9: =IF('Üres, sablon'!D9>0,'Üres, sablon'!D9,"") -> 3
A10: 4. | B10: =IF('Üres, sablon'!B9:C10>0,'Üres, sablon'!B9:C10," ") -> sorrendbe rendezés | D10: =IF('Üres, sablon'!D10>0,'Üres, sablon'!D10,"") -> 3
A11: 5. | B11: =IF('Üres, sablon'!B10:C11>0,'Üres, sablon'!B10:C11," ") -> relációs jelek használata | D11: =IF('Üres, sablon'!D11>0,'Üres, sablon'!D11,"") -> 4
A12: 6. | B12: =IF('Üres, sablon'!B11:C12>0,'Üres, sablon'!B11:C12," ") -> Logikai mondatok | D12: =IF('Üres, sablon'!D12>0,'Üres, sablon'!D12,"") -> 5
A13: 7. | B13: =IF('Üres, sablon'!B12:C13>0,'Üres, sablon'!B12:C13," ") -> halmazok ábrázolása számegyenesen | D13: =IF('Üres, sablon'!D13>0,'Üres, sablon'!D13,"") -> 5
A14: 8. | B14: =IF('Üres, sablon'!B13:C14>0,'Üres, sablon'!B13:C14," ") -> sorozatok | D14: =IF('Üres, sablon'!D14>0,'Üres, sablon'!D14,"") -> 4
A15: 9. | B15: =IF('Üres, sablon'!B14:C15>0,'Üres, sablon'!B14:C15," ") -> abszolút éerték | D15: =IF('Üres, sablon'!D15>0,'Üres, sablon'!D15,"") -> 2
A16: 10. | B16: =IF('Üres, sablon'!B15:C16>0,'Üres, sablon'!B15:C16," ") -> ellentett | D16: =IF('Üres, sablon'!D16>0,'Üres, sablon'!D16,"") -> 2
A17: 11. | B17: =IF('Üres, sablon'!B16:C17>0,'Üres, sablon'!B16:C17," ") -> relációs jelek | D17: =IF('Üres, sablon'!D17>0,'Üres, sablon'!D17,"") -> 3
A18: 12. | B18: =IF('Üres, sablon'!B17:C18>0,'Üres, sablon'!B17:C18," ") -> adósságcédulák, pénz összevonása | D18: =IF('Üres, sablon'!D18>0,'Üres, sablon'!D18,"") -> 2
... A36: 30. | B36: =IF('Üres, sablon'!B35:C36>0,'Üres, sablon'!B35:C36," ") | D36: =IF('Üres, sablon'!D36>0,'Üres, sablon'!D36,"")
A37: Értékelés címe: | C37: Dátum: | G37: Aláírás:
A38: Szövege:
A39: Értékelés címe: | C39: Dátum: | G39: Aláírás:
A40: Szövege:
A41: Értékelés címe: | C41: Dátum: | G41: Aláírás:
A42: Szövege:

Sheet Kukk Alíz
A1: ='Üres, sablon'!A1:N1 -> Értékelőlap
A2: ='Üres, sablon'!A2 -> A tanuló neve, osztálya: | C2: =RIGHT(CELL("filenév",A6),LEN(CELL("filenév",A6))-SEARCH("]",CELL("filenév",A6))) -> Kukk Alíz | F2: ='Üres, sablon'!F2 -> Kódja: | H2: =VLOOKUP($C$2,'Névsor-kódok'!$B$3:$F$29,2, FALSE) -> 21.13.5
A3: ='Üres, sablon'!A3 -> Kezdés időpontja: | D3: ='Üres, sablon'!D3 -> Megjegyzés:
A4: ='Üres, sablon'!A4:B5 -> EGÉSZ SZÁMOK | C4: ='Üres, sablon'!C4:D4 -> Dátum:
C5: ='Üres, sablon'!C5:D5 -> Feladatkód:
A6: sorsz. | B6: ='Üres, sablon'!B6:C6 -> itemek | D6: ='Üres, sablon'!D6 -> szint
A7: 1. | B7: =IF('Üres, sablon'!B6:C7>0,'Üres, sablon'!B6:C7," ") -> Írása, olvasása, hétköznapi értelmezése | D7: =IF('Üres, sablon'!D7>0,'Üres, sablon'!D7,"") -> 2
A8: 2. | B8: =IF('Üres, sablon'!B7:C8>0,'Üres, sablon'!B7:C8," ") -> halmazok | D8: =IF('Üres, sablon'!D8>0,'Üres, sablon'!D8,"") -> 2
A9: 3. | B9: =IF('Üres, sablon'!B8:C9>0,'Üres, sablon'!B8:C9," ") -> számegyenesen ábrázolás | D9: =IF('Üres, sablon'!D9>0,'Üres, sablon'!D9,"") -> 3
A10: 4. | B10: =IF('Üres, sablon'!B9:C10>0,'Üres, sablon'!B9:C10," ") -> sorrendbe rendezés | D10: =IF('Üres, sablon'!D10>0,'Üres, sablon'!D10,"") -> 3
A11: 5. | B11: =IF('Üres, sablon'!B10:C11>0,'Üres, sablon'!B10:C11," ") -> relációs jelek használata | D11: =IF('Üres, sablon'!D11>0,'Üres, sablon'!D11,"") -> 4
A12: 6. | B12: =IF('Üres, sablon'!B11:C12>0,'Üres, sablon'!B11:C12," ") -> Logikai mondatok | D12: =IF('Üres, sablon'!D12>0,'Üres, sablon'!D12,"") -> 5
A13: 7. | B13: =IF('Üres, sablon'!B12:C13>0,'Üres, sablon'!B12:C13," ") -> halmazok ábrázolása számegyenesen | D13: =IF('Üres, sablon'!D13>0,'Üres, sablon'!D13,"") -> 5
A14: 8. | B14: =IF('Üres, sablon'!B13:C14>0,'Üres, sablon'!B13:C14," ") -> sorozatok | D14: =IF('Üres, sablon'!D14>0,'Üres, sablon'!D14,"") -> 4
A15: 9. | B15: =IF('Üres, sablon'!B14:C15>0,'Üres, sablon'!B14:C15," ") -> abszolút éerték | D15: =IF('Üres, sablon'!D15>0,'Üres, sablon'!D15,"") -> 2
A16: 10. | B16: =IF('Üres, sablon'!B15:C16>0,'Üres, sablon'!B15:C16," ") -> ellentett | D16: =IF('Üres, sablon'!D16>0,'Üres, sablon'!D16,"") -> 2
A17: 11. | B17: =IF('Üres, sablon'!B16:C17>0,'Üres, sablon'!B16:C17," ") -> relációs jelek | D17: =IF('Üres, sablon'!D17>0,'Üres, sablon'!D17,"") -> 3
A18: 12. | B18: =IF('Üres, sablon'!B17:C18>0,'Üres, sablon'!B17:C18," ") -> adósságcédulák, pénz összevonása | D18: =IF('Üres, sablon'!D18>0,'Üres, sablon'!D18,"") -> 2
... A36: 30. | B36: =IF('Üres, sablon'!B35:C36>0,'Üres, sablon'!B35:C36," ") | D36: =IF('Üres, sablon'!D36>0,'Üres, sablon'!D36,"")
A37: Értékelés címe: | C37: Dátum: | G37: Aláírás:
A38: Szövege:
A39: Értékelés címe: | C39: Dátum: | G39: Aláírás:
A40: Szövege:
A41: Értékelés címe: | C41: Dátum: | G41: Aláírás:
A42: Szövege:

Sheet Micskei Ákos
A1: ='Üres, sablon'!A1:N1 -> Értékelőlap
A2: ='Üres, sablon'!A2 -> A tanuló neve, osztálya: | C2: =RIGHT(CELL("filenév",A6),LEN(CELL("filenév",A6))-SEARCH("]",CELL("filenév",A6))) -> Micskei Ákos | F2: ='Üres, sablon'!F2 -> Kódja: | H2: =VLOOKUP($C$2,'Névsor-kódok'!$B$3:$F$29,2, FALSE) -> 21.14.5
A3: ='Üres, sablon'!A3 -> Kezdés időpontja: | D3: ='Üres, sablon'!D3 -> Megjegyzés:
A4: ='Üres, sablon'!A4:B5 -> EGÉSZ SZÁMOK | C4: ='Üres, sablon'!C4:D4 -> Dátum:
C5: ='Üres, sablon'!C5:D5 -> Feladatkód:
A6: sorsz. | B6: ='Üres, sablon'!B6:C6 -> itemek | D6: ='Üres, sablon'!D6 -> szint
A7: 1. | B7: =IF('Üres, sablon'!B6:C7>0,'Üres, sablon'!B6:C7," ") -> Írása, olvasása, hétköznapi értelmezése | D7: =IF('Üres, sablon'!D7>0,'Üres, sablon'!D7,"") -> 2
A8: 2. | B8: =IF('Üres, sablon'!B7:C8>0,'Üres, sablon'!B7:C8," ") -> halmazok | D8: =IF('Üres, sablon'!D8>0,'Üres, sablon'!D8,"") -> 2
A9: 3. | B9: =IF('Üres, sablon'!B8:C9>0,'Üres, sablon'!B8:C9," ") -> számegyenesen ábrázolás | D9: =IF('Üres, sablon'!D9>0,'Üres, sablon'!D9,"") -> 3
A10: 4. | B10: =IF('Üres, sablon'!B9:C10>0,'Üres, sablon'!B9:C10," ") -> sorrendbe rendezés | D10: =IF('Üres, sablon'!D10>0,'Üres, sablon'!D10,"") -> 3
A11: 5. | B11: =IF('Üres, sablon'!B10:C11>0,'Üres, sablon'!B10:C11," ") -> relációs jelek használata | D11: =IF('Üres, sablon'!D11>0,'Üres, sablon'!D11,"") -> 4
A12: 6. | B12: =IF('Üres, sablon'!B11:C12>0,'Üres, sablon'!B11:C12," ") -> Logikai mondatok | D12: =IF('Üres, sablon'!D12>0,'Üres, sablon'!D12,"") -> 5
A13: 7. | B13: =IF('Üres, sablon'!B12:C13>0,'Üres, sablon'!B12:C13," ") -> halmazok ábrázolása számegyenesen | D13: =IF('Üres, sablon'!D13>0,'Üres, sablon'!D13,"") -> 5
A14: 8. | B14: =IF('Üres, sablon'!B13:C14>0,'Üres, sablon'!B13:C14," ") -> sorozatok | D14: =IF('Üres, sablon'!D14>0,'Üres, sablon'!D14,"") -> 4
A15: 9. | B15: =IF('Üres, sablon'!B14:C15>0,'Üres, sablon'!B14:C15," ") -> abszolút éerték | D15: =IF('Üres, sablon'!D15>0,'Üres, sablon'!D15,"") -> 2
A16: 10. | B16: =IF('Üres, sablon'!B15:C16>0,'Üres, sablon'!B15:C16," ") -> ellentett | D16: =IF('Üres, sablon'!D16>0,'Üres, sablon'!D16,"") -> 2
A17: 11. | B17: =IF('Üres, sablon'!B16:C17>0,'Üres, sablon'!B16:C17," ") -> relációs jelek | D17: =IF('Üres, sablon'!D17>0,'Üres, sablon'!D17,"") -> 3
A18: 12. | B18: =IF('Üres, sablon'!B17:C18>0,'Üres, sablon'!B17:C18," ") -> adósságcédulák, pénz összevonása | D18: =IF('Üres, sablon'!D18>0,'Üres, sablon'!D18,"") -> 2
... A36: 30. | B36: =IF('Üres, sablon'!B35:C36>0,'Üres, sablon'!B35:C36," ") | D36: =IF('Üres, sablon'!D36>0,'Üres, sablon'!D36,"")
A37: Értékelés címe: | C37: Dátum: | G37: Aláírás:
A38: Szövege:
A39: Értékelés címe: | C39: Dátum: | G39: Aláírás:
A40: Szövege:
A41: Értékelés címe: | C41: Dátum: | G41: Aláírás:
A42: Szövege:

Sheet Oláh Sándor Rikárdó
A1: ='Üres, sablon'!A1:N1 -> Értékelőlap
A2: ='Üres, sablon'!A2 -> A tanuló neve, osztálya: | C2: =RIGHT(CELL("filenév",A6),LEN(CELL("filenév",A6))-SEARCH("]",CELL("filenév",A6))) -> Oláh Sándor Rikárdó | F2: ='Üres, sablon'!F2 -> Kódja: | H2: =VLOOKUP($C$2,'Névsor-kódok'!$B$3:$F$29,2, FALSE) -> 21.15.5
A3: ='Üres, sablon'!A3 -> Kezdés időpontja: | D3: ='Üres, sablon'!D3 -> Megjegyzés:
A4: ='Üres, sablon'!A4:B5 -> EGÉSZ SZÁMOK | C4: ='Üres, sablon'!C4:D4 -> Dátum:
C5: ='Üres, sablon'!C5:D5 -> Feladatkód:
A6: sorsz. | B6: ='Üres, sablon'!B6:C6 -> itemek | D6: ='Üres, sablon'!D6 -> szint
A7: 1. | B7: =IF('Üres, sablon'!B6:C7>0,'Üres, sablon'!B6:C7," ") -> Írása, olvasása, hétköznapi értelmezése | D7: =IF('Üres, sablon'!D7>0,'Üres, sablon'!D7,"") -> 2
A8: 2. | B8: =IF('Üres, sablon'!B7:C8>0,'Üres, sablon'!B7:C8," ") -> halmazok | D8: =IF('Üres, sablon'!D8>0,'Üres, sablon'!D8,"") -> 2
A9: 3. | B9: =IF('Üres, sablon'!B8:C9>0,'Üres, sablon'!B8:C9," ") -> számegyenesen ábrázolás | D9: =IF('Üres, sablon'!D9>0,'Üres, sablon'!D9,"") -> 3
A10: 4. | B10: =IF('Üres, sablon'!B9:C10>0,'Üres, sablon'!B9:C10," ") -> sorrendbe rendezés | D10: =IF('Üres, sablon'!D10>0,'Üres, sablon'!D10,"") -> 3
A11: 5. | B11: =IF('Üres, sablon'!B10:C11>0,'Üres, sablon'!B10:C11," ") -> relációs jelek használata | D11: =IF('Üres, sablon'!D11>0,'Üres, sablon'!D11,"") -> 4
A12: 6. | B12: =IF('Üres, sablon'!B11:C12>0,'Üres, sablon'!B11:C12," ") -> Logikai mondatok | D12: =IF('Üres, sablon'!D12>0,'Üres, sablon'!D12,"") -> 5
A13: 7. | B13: =IF('Üres, sablon'!B12:C13>0,'Üres, sablon'!B12:C13," ") -> halmazok ábrázolása számegyenesen | D13: =IF('Üres, sablon'!D13>0,'Üres, sablon'!D13,"") -> 5
A14: 8. | B14: =IF('Üres, sablon'!B13:C14>0,'Üres, sablon'!B13:C14," ") -> sorozatok | D14: =IF('Üres, sablon'!D14>0,'Üres, sablon'!D14,"") -> 4
A15: 9. | B15: =IF('Üres, sablon'!B14:C15>0,'Üres, sablon'!B14:C15," ") -> abszolút éerték | D15: =IF('Üres, sablon'!D15>0,'Üres, sablon'!D15,"") -> 2
A16: 10. | B16: =IF('Üres, sablon'!B15:C16>0,'Üres, sablon'!B15:C16," ") -> ellentett | D16: =IF('Üres, sablon'!D16>0,'Üres, sablon'!D16,"") -> 2
A17: 11. | B17: =IF('Üres, sablon'!B16:C17>0,'Üres, sablon'!B16:C17," ") -> relációs jelek | D17: =IF('Üres, sablon'!D17>0,'Üres, sablon'!D17,"") -> 3
A18: 12. | B18: =IF('Üres, sablon'!B17:C18>0,'Üres, sablon'!B17:C18," ") -> adósságcédulák, pénz összevonása | D18: =IF('Üres, sablon'!D18>0,'Üres, sablon'!D18,"") -> 2
... A36: 30. | B36: =IF('Üres, sablon'!B35:C36>0,'Üres, sablon'!B35:C36," ") | D36: =IF('Üres, sablon'!D36>0,'Üres, sablon'!D36,"")
A37: Értékelés címe: | C37: Dátum: | G37: Aláírás:
A38: Szövege:
A39: Értékelés címe: | C39: Dátum: | G39: Aláírás:
A40: Szövege:
A41: Értékelés címe: | C41: Dátum: | G41: Aláírás:
A42: Szövege:

Sheet Varga Zsombor
A1: ='Üres, sablon'!A1:N1 -> Értékelőlap
A2: ='Üres, sablon'!A2 -> A tanuló neve, osztálya: | C2: =RIGHT(CELL("filenév",A6),LEN(CELL("filenév",A6))-SEARCH("]",CELL("filenév",A6))) -> Varga Zsombor | F2: ='Üres, sablon'!F2 -> Kódja: | H2: =VLOOKUP($C$2,'Névsor-kódok'!$B$3:$F$29,2, FALSE) -> 21.20.5
A3: ='Üres, sablon'!A3 -> Kezdés időpontja: | D3: ='Üres, sablon'!D3 -> Megjegyzés:
A4: ='Üres, sablon'!A4:B5 -> EGÉSZ SZÁMOK | C4: ='Üres, sablon'!C4:D4 -> Dátum:
C5: ='Üres, sablon'!C5:D5 -> Feladatkód:
A6: sorsz. | B6: ='Üres, sablon'!B6:C6 -> itemek | D6: ='Üres, sablon'!D6 -> szint
A7: 1. | B7: =IF('Üres, sablon'!B6:C7>0,'Üres, sablon'!B6:C7," ") -> Írása, olvasása, hétköznapi értelmezése | D7: =IF('Üres, sablon'!D7>0,'Üres, sablon'!D7,"") -> 2
A8: 2. | B8: =IF('Üres, sablon'!B7:C8>0,'Üres, sablon'!B7:C8," ") -> halmazok | D8: =IF('Üres, sablon'!D8>0,'Üres, sablon'!D8,"") -> 2
A9: 3. | B9: =IF('Üres, sablon'!B8:C9>0,'Üres, sablon'!B8:C9," ") -> számegyenesen ábrázolás | D9: =IF('Üres, sablon'!D9>0,'Üres, sablon'!D9,"") -> 3
A10: 4. | B10: =IF('Üres, sablon'!B9:C10>0,'Üres, sablon'!B9:C10," ") -> sorrendbe rendezés | D10: =IF('Üres, sablon'!D10>0,'Üres, sablon'!D10,"") -> 3
A11: 5. | B11: =IF('Üres, sablon'!B10:C11>0,'Üres, sablon'!B10:C11," ") -> relációs jelek használata | D11: =IF('Üres, sablon'!D11>0,'Üres, sablon'!D11,"") -> 4
A12: 6. | B12: =IF('Üres, sablon'!B11:C12>0,'Üres, sablon'!B11:C12," ") -> Logikai mondatok | D12: =IF('Üres, sablon'!D12>0,'Üres, sablon'!D12,"") -> 5
A13: 7. | B13: =IF('Üres, sablon'!B12:C13>0,'Üres, sablon'!B12:C13," ") -> halmazok ábrázolása számegyenesen | D13: =IF('Üres, sablon'!D13>0,'Üres, sablon'!D13,"") -> 5
A14: 8. | B14: =IF('Üres, sablon'!B13:C14>0,'Üres, sablon'!B13:C14," ") -> sorozatok | D14: =IF('Üres, sablon'!D14>0,'Üres, sablon'!D14,"") -> 4
A15: 9. | B15: =IF('Üres, sablon'!B14:C15>0,'Üres, sablon'!B14:C15," ") -> abszolút éerték | D15: =IF('Üres, sablon'!D15>0,'Üres, sablon'!D15,"") -> 2
A16: 10. | B16: =IF('Üres, sablon'!B15:C16>0,'Üres, sablon'!B15:C16," ") -> ellentett | D16: =IF('Üres, sablon'!D16>0,'Üres, sablon'!D16,"") -> 2
A17: 11. | B17: =IF('Üres, sablon'!B16:C17>0,'Üres, sablon'!B16:C17," ") -> relációs jelek | D17: =IF('Üres, sablon'!D17>0,'Üres, sablon'!D17,"") -> 3
A18: 12. | B18: =IF('Üres, sablon'!B17:C18>0,'Üres, sablon'!B17:C18," ") -> adósságcédulák, pénz összevonása | D18: =IF('Üres, sablon'!D18>0,'Üres, sablon'!D18,"") -> 2
... A36: 30. | B36: =IF('Üres, sablon'!B35:C36>0,'Üres, sablon'!B35:C36," ") | D36: =IF('Üres, sablon'!D36>0,'Üres, sablon'!D36,"")
A37: Értékelés címe: | C37: Dátum: | G37: Aláírás:
A38: Szövege:
A39: Értékelés címe: | C39: Dátum: | G39: Aláírás:
A40: Szövege:
A41: Értékelés címe: | C41: Dátum: | G41: Aláírás:
A42: Szövege:

Sheet Zelenka Lia Ágnes
A1: ='Üres, sablon'!A1:N1 -> Értékelőlap
A2: ='Üres, sablon'!A2 -> A tanuló neve, osztálya: | C2: =RIGHT(CELL("filenév",A6),LEN(CELL("filenév",A6))-SEARCH("]",CELL("filenév",A6))) -> Zelenka Lia Ágnes | F2: ='Üres, sablon'!F2 -> Kódja: | H2: =VLOOKUP($C$2,'Névsor-kódok'!$B$3:$F$29,2, FALSE) -> 21.21.5
A3: ='Üres, sablon'!A3 -> Kezdés időpontja: | D3: ='Üres, sablon'!D3 -> Megjegyzés:
A4: ='Üres, sablon'!A4:B5 -> EGÉSZ SZÁMOK | C4: ='Üres, sablon'!C4:D4 -> Dátum:
C5: ='Üres, sablon'!C5:D5 -> Feladatkód:
A6: sorsz. | B6: ='Üres, sablon'!B6:C6 -> itemek | D6: ='Üres, sablon'!D6 -> szint
A7: 1. | B7: =IF('Üres, sablon'!B6:C7>0,'Üres, sablon'!B6:C7," ") -> Írása, olvasása, hétköznapi értelmezése | D7: =IF('Üres, sablon'!D7>0,'Üres, sablon'!D7,"") -> 2
A8: 2. | B8: =IF('Üres, sablon'!B7:C8>0,'Üres, sablon'!B7:C8," ") -> halmazok | D8: =IF('Üres, sablon'!D8>0,'Üres, sablon'!D8,"") -> 2
A9: 3. | B9: =IF('Üres, sablon'!B8:C9>0,'Üres, sablon'!B8:C9," ") -> számegyenesen ábrázolás | D9: =IF('Üres, sablon'!D9>0,'Üres, sablon'!D9,"") -> 3
A10: 4. | B10: =IF('Üres, sablon'!B9:C10>0,'Üres, sablon'!B9:C10," ") -> sorrendbe rendezés | D10: =IF('Üres, sablon'!D10>0,'Üres, sablon'!D10,"") -> 3
A11: 5. | B11: =IF('Üres, sablon'!B10:C11>0,'Üres, sablon'!B10:C11," ") -> relációs jelek használata | D11: =IF('Üres, sablon'!D11>0,'Üres, sablon'!D11,"") -> 4
A12: 6. | B12: =IF('Üres, sablon'!B11:C12>0,'Üres, sablon'!B11:C12," ") -> Logikai mondatok | D12: =IF('Üres, sablon'!D12>0,'Üres, sablon'!D12,"") -> 5
A13: 7. | B13: =IF('Üres, sablon'!B12:C13>0,'Üres, sablon'!B12:C13," ") -> halmazok ábrázolása számegyenesen | D13: =IF('Üres, sablon'!D13>0,'Üres, sablon'!D13,"") -> 5
A14: 8. | B14: =IF('Üres, sablon'!B13:C14>0,'Üres, sablon'!B13:C14," ") -> sorozatok | D14: =IF('Üres, sablon'!D14>0,'Üres, sablon'!D14,"") -> 4
A15: 9. | B15: =IF('Üres, sablon'!B14:C15>0,'Üres, sablon'!B14:C15," ") -> abszolút éerték | D15: =IF('Üres, sablon'!D15>0,'Üres, sablon'!D15,"") -> 2
A16: 10. | B16: =IF('Üres, sablon'!B15:C16>0,'Üres, sablon'!B15:C16," ") -> ellentett | D16: =IF('Üres, sablon'!D16>0,'Üres, sablon'!D16,"") -> 2
A17: 11. | B17: =IF('Üres, sablon'!B16:C17>0,'Üres, sablon'!B16:C17," ") -> relációs jelek | D17: =IF('Üres, sablon'!D17>0,'Üres, sablon'!D17,"") -> 3
A18: 12. | B18: =IF('Üres, sablon'!B17:C18>0,'Üres, sablon'!B17:C18," ") -> adósságcédulák, pénz összevonása | D18: =IF('Üres, sablon'!D18>0,'Üres, sablon'!D18,"") -> 2
... A36: 30. | B36: =IF('Üres, sablon'!B35:C36>0,'Üres, sablon'!B35:C36," ") | D36: =IF('Üres, sablon'!D36>0,'Üres, sablon'!D36,"")
A37: Értékelés címe: | C37: Dátum: | G37: Aláírás:
A38: Szövege:
A39: Értékelés címe: | C39: Dátum: | G39: Aláírás:
A40: Szövege:
A41: Értékelés címe: | C41: Dátum: | G41: Aláírás:
A42: Szövege:
